BEGIN:VCALENDAR
VERSION:2.0
PRODID:-//BMX La Roche Sur Yon - ECPv6.15.20//NONSGML v1.0//EN
CALSCALE:GREGORIAN
METHOD:PUBLISH
X-WR-CALNAME:BMX La Roche Sur Yon
X-ORIGINAL-URL:https://bmx-laroche.fr
X-WR-CALDESC:Évènements pour BMX La Roche Sur Yon
REFRESH-INTERVAL;VALUE=DURATION:PT1H
X-Robots-Tag:noindex
X-PUBLISHED-TTL:PT1H
BEGIN:VTIMEZONE
TZID:Europe/Paris
BEGIN:DAYLIGHT
TZOFFSETFROM:+0100
TZOFFSETTO:+0200
TZNAME:CEST
DTSTART:20230326T010000
END:DAYLIGHT
BEGIN:STANDARD
TZOFFSETFROM:+0200
TZOFFSETTO:+0100
TZNAME:CET
DTSTART:20231029T010000
END:STANDARD
BEGIN:DAYLIGHT
TZOFFSETFROM:+0100
TZOFFSETTO:+0200
TZNAME:CEST
DTSTART:20240331T010000
END:DAYLIGHT
BEGIN:STANDARD
TZOFFSETFROM:+0200
TZOFFSETTO:+0100
TZNAME:CET
DTSTART:20241027T010000
END:STANDARD
BEGIN:DAYLIGHT
TZOFFSETFROM:+0100
TZOFFSETTO:+0200
TZNAME:CEST
DTSTART:20250330T010000
END:DAYLIGHT
BEGIN:STANDARD
TZOFFSETFROM:+0200
TZOFFSETTO:+0100
TZNAME:CET
DTSTART:20251026T010000
END:STANDARD
END:VTIMEZONE
BEGIN:VEVENT
DTSTART;TZID=Europe/Paris:20240707T080000
DTEND;TZID=Europe/Paris:20240707T170000
DTSTAMP:20260420T164431
CREATED:20240229T213420Z
LAST-MODIFIED:20240610T173313Z
UID:10968-1720339200-1720371600@bmx-laroche.fr
SUMMARY:Coupe de France 2024 - Manche 6 Mours St Eusèbe
DESCRIPTION:
URL:https://bmx-laroche.fr/evenement/coupe-de-france-2024-manche-6-mours-st-eusebe/
LOCATION:Mours St Eusèbe\, Chemin des Guinches\,\, Mours-Saint-Eusèbe\, 26540
CATEGORIES:Compétitions
END:VEVENT
END:VCALENDAR