BEGIN:VCALENDAR
VERSION:2.0
PRODID:-//BMX La Roche Sur Yon - ECPv6.15.20//NONSGML v1.0//EN
CALSCALE:GREGORIAN
METHOD:PUBLISH
X-WR-CALNAME:BMX La Roche Sur Yon
X-ORIGINAL-URL:https://bmx-laroche.fr
X-WR-CALDESC:Évènements pour BMX La Roche Sur Yon
REFRESH-INTERVAL;VALUE=DURATION:PT1H
X-Robots-Tag:noindex
X-PUBLISHED-TTL:PT1H
BEGIN:VTIMEZONE
TZID:Europe/Paris
BEGIN:DAYLIGHT
TZOFFSETFROM:+0100
TZOFFSETTO:+0200
TZNAME:CEST
DTSTART:20220327T010000
END:DAYLIGHT
BEGIN:STANDARD
TZOFFSETFROM:+0200
TZOFFSETTO:+0100
TZNAME:CET
DTSTART:20221030T010000
END:STANDARD
BEGIN:DAYLIGHT
TZOFFSETFROM:+0100
TZOFFSETTO:+0200
TZNAME:CEST
DTSTART:20230326T010000
END:DAYLIGHT
BEGIN:STANDARD
TZOFFSETFROM:+0200
TZOFFSETTO:+0100
TZNAME:CET
DTSTART:20231029T010000
END:STANDARD
BEGIN:DAYLIGHT
TZOFFSETFROM:+0100
TZOFFSETTO:+0200
TZNAME:CEST
DTSTART:20240331T010000
END:DAYLIGHT
BEGIN:STANDARD
TZOFFSETFROM:+0200
TZOFFSETTO:+0100
TZNAME:CET
DTSTART:20241027T010000
END:STANDARD
END:VTIMEZONE
BEGIN:VEVENT
DTSTART;TZID=Europe/Paris:20230318T083000
DTEND;TZID=Europe/Paris:20230318T123000
DTSTAMP:20260423T053857
CREATED:20230225T194840Z
LAST-MODIFIED:20230225T194840Z
UID:10333-1679128200-1679142600@bmx-laroche.fr
SUMMARY:Matinée entretien des vélos du club
DESCRIPTION:Matinée entretien des vélos du club :Périodiquement nous réalisons une matinée entretien des vélos du club\, pour les maintenir en bon état de fonctionnement (pneus\, freins\, transmission…)Nous avons arrêté la date du Samedi 18/03/23\, de 8h30 à 12h30\, pour cette séance.Vous trouverez ici un lien Doodle\, pour vous inscrire à cette matinée.Vous pouvez venir avec votre caisse à outils et support de vélo d’atelier\, pour l’occasion.Les séances d’entraînement seront maintenues\, aux horaires habituels\,\nMerci à toutes et tous\, pour votre participation
URL:https://bmx-laroche.fr/evenement/matinee-entretien-des-velos-du-club/
CATEGORIES:Évènemment Club
ATTACH;FMTTYPE=image/jpeg:https://bmx-laroche.fr/wp-content/uploads/2023/02/5edf9981aaa44_maxnewsworldfour598135-4791814.jpg
END:VEVENT
END:VCALENDAR