BEGIN:VCALENDAR
VERSION:2.0
PRODID:-//BMX La Roche Sur Yon - ECPv6.15.20//NONSGML v1.0//EN
CALSCALE:GREGORIAN
METHOD:PUBLISH
X-ORIGINAL-URL:https://bmx-laroche.fr
X-WR-CALDESC:Évènements pour BMX La Roche Sur Yon
REFRESH-INTERVAL;VALUE=DURATION:PT1H
X-Robots-Tag:noindex
X-PUBLISHED-TTL:PT1H
BEGIN:VTIMEZONE
TZID:Europe/Paris
BEGIN:DAYLIGHT
TZOFFSETFROM:+0100
TZOFFSETTO:+0200
TZNAME:CEST
DTSTART:20220327T010000
END:DAYLIGHT
BEGIN:STANDARD
TZOFFSETFROM:+0200
TZOFFSETTO:+0100
TZNAME:CET
DTSTART:20221030T010000
END:STANDARD
BEGIN:DAYLIGHT
TZOFFSETFROM:+0100
TZOFFSETTO:+0200
TZNAME:CEST
DTSTART:20230326T010000
END:DAYLIGHT
BEGIN:STANDARD
TZOFFSETFROM:+0200
TZOFFSETTO:+0100
TZNAME:CET
DTSTART:20231029T010000
END:STANDARD
BEGIN:DAYLIGHT
TZOFFSETFROM:+0100
TZOFFSETTO:+0200
TZNAME:CEST
DTSTART:20240331T010000
END:DAYLIGHT
BEGIN:STANDARD
TZOFFSETFROM:+0200
TZOFFSETTO:+0100
TZNAME:CET
DTSTART:20241027T010000
END:STANDARD
END:VTIMEZONE
BEGIN:VEVENT
DTSTART;TZID=Europe/Paris:20230325T083000
DTEND;TZID=Europe/Paris:20230325T163000
DTSTAMP:20260423T054224
CREATED:20230225T194424Z
LAST-MODIFIED:20230323T145802Z
UID:10331-1679733000-1679761800@bmx-laroche.fr
SUMMARY:Journée travaux
DESCRIPTION:Le dimanche 16 Avril 2023\, nous accueillerons la 3ème manche de la Coupe régionale sur notre piste de la Roche Sur Yon.Afin d’accueillir l’évènement dans de bonnes conditions\, nous devons avant cette date\, préparer la piste :– désherber– boucher les trous– sablage + chauxPour effectuer ces travaux\, nous avons besoin de vous.1 date a été arrêtée : le samedi 25/03/2023.Vous trouverez ici un lien Doodle\, pour vous inscrire à cette journée travaux\, le matin et/ou l’après midi.Horaire 8h30 -12h30\, 14h00 – 16h30Pour ces travaux\, merci de venir avec vos outils svp : bêche\, râteau\, pelle\, brouette et votre bonne humeur.Pour celles et ceux qui seront présents la journée complète\, le repas du midi sera prévu par le club. \nLes séances d’entraînement seront maintenues\, aux horaires habituels\,\nMerci à toutes et tous\, pour votre participation
URL:https://bmx-laroche.fr/evenement/journee-travaux/
LOCATION:La Roche Sur Yon\, 9 rue Charles Peguy\, La Roche Sur Yon\, 85000
CATEGORIES:Évènemment Club
ATTACH;FMTTYPE=image/jpeg:https://bmx-laroche.fr/wp-content/uploads/2023/03/Travaux.jpg
END:VEVENT
END:VCALENDAR